BEGIN:VCALENDAR
VERSION:2.0
PRODID:-//Dilworth Tasting Room - ECPv6.10.2//NONSGML v1.0//EN
CALSCALE:GREGORIAN
METHOD:PUBLISH
X-ORIGINAL-URL:https://dilworthtr.com
X-WR-CALDESC:Events for Dilworth Tasting Room
REFRESH-INTERVAL;VALUE=DURATION:PT1H
X-Robots-Tag:noindex
X-PUBLISHED-TTL:PT1H
BEGIN:VTIMEZONE
TZID:America/Halifax
BEGIN:DAYLIGHT
TZOFFSETFROM:-0400
TZOFFSETTO:-0300
TZNAME:ADT
DTSTART:20260308T060000
END:DAYLIGHT
BEGIN:STANDARD
TZOFFSETFROM:-0300
TZOFFSETTO:-0400
TZNAME:AST
DTSTART:20261101T050000
END:STANDARD
BEGIN:DAYLIGHT
TZOFFSETFROM:-0400
TZOFFSETTO:-0300
TZNAME:ADT
DTSTART:20270314T060000
END:DAYLIGHT
BEGIN:STANDARD
TZOFFSETFROM:-0300
TZOFFSETTO:-0400
TZNAME:AST
DTSTART:20271107T050000
END:STANDARD
END:VTIMEZONE
BEGIN:VEVENT
DTSTART;VALUE=DATE:20261117
DTEND;VALUE=DATE:20261118
DTSTAMP:20260425T111132
CREATED:20250722T153545Z
LAST-MODIFIED:20250722T153547Z
UID:10010328-1794873600-1794959999@dilworthtr.com
SUMMARY:Blind Tasting Tuesdays
DESCRIPTION:Think you know your wine or whiskey? Put your taste buds to the test with Blind Tasting Tuesdays! \nBlind Wine Flight – $25\nThree mystery 2oz pours + small charcuterie \nBlind Whiskey Flight – $30\nThree mystery 1oz pours \nBonus: Guess all three correctly and WIN a $25 DTR Gift Card! \nThink you have what it takes? \n 
URL:https://dilworthtr.com/event/blind-tasting-tuesdays-2-2/2026-11-17/
LOCATION:DTR Dilworth\, 300 E Tremont Ave\, Charlotte\, NC\, 28203\, United States
CATEGORIES:Dilworth,Plaza Midwood,SouthPark
ATTACH;FMTTYPE=image/jpeg:https://dilworthtr.com/wp-content/uploads/2025/03/Feb.-10-singles-night-mixer-2.jpg
END:VEVENT
BEGIN:VEVENT
DTSTART;VALUE=DATE:20261118
DTEND;VALUE=DATE:20261119
DTSTAMP:20260425T111132
CREATED:20260407T150905Z
LAST-MODIFIED:20260414T195500Z
UID:10015256-1794960000-1795046399@dilworthtr.com
SUMMARY:Wednesday Shaken & Stirred
DESCRIPTION:Join us every Wednesday at DTR Dilworth for a midweek classic. Enjoy $12 House Martinis and House Manhattans\, expertly crafted and perfectly balanced. No matter how your night looks\, consider this your standing midweek ritual.
URL:https://dilworthtr.com/event/wednesday-shaken-stirred/2026-11-18/
LOCATION:DTR Dilworth\, 300 E Tremont Ave\, Charlotte\, NC\, 28203\, United States
CATEGORIES:Dilworth
ATTACH;FMTTYPE=image/png:https://dilworthtr.com/wp-content/uploads/2026/04/Resy-Images-for-DTR-30.png
END:VEVENT
BEGIN:VEVENT
DTSTART;VALUE=DATE:20261119
DTEND;VALUE=DATE:20261120
DTSTAMP:20260425T111132
CREATED:20250915T201647Z
LAST-MODIFIED:20251113T140547Z
UID:10009277-1795046400-1795132799@dilworthtr.com
SUMMARY:Uncorked Thursdays
DESCRIPTION:Thursdays just got better! \n🍷 Half Off Select Bottles of Wine – The perfect excuse to sip & savor! \nBecause life’s too short for anything less than great wine at a great price!
URL:https://dilworthtr.com/event/uncorked-thursdays-2/2026-11-19/
LOCATION:DTR Dilworth\, 300 E Tremont Ave\, Charlotte\, NC\, 28203\, United States
CATEGORIES:Dilworth,Plaza Midwood,SouthPark
ATTACH;FMTTYPE=image/jpeg:https://dilworthtr.com/wp-content/uploads/2025/03/Uncorked-Thursdays.jpg
END:VEVENT
BEGIN:VEVENT
DTSTART;VALUE=DATE:20261124
DTEND;VALUE=DATE:20261125
DTSTAMP:20260425T111132
CREATED:20250722T153545Z
LAST-MODIFIED:20250722T153547Z
UID:10010329-1795478400-1795564799@dilworthtr.com
SUMMARY:Blind Tasting Tuesdays
DESCRIPTION:Think you know your wine or whiskey? Put your taste buds to the test with Blind Tasting Tuesdays! \nBlind Wine Flight – $25\nThree mystery 2oz pours + small charcuterie \nBlind Whiskey Flight – $30\nThree mystery 1oz pours \nBonus: Guess all three correctly and WIN a $25 DTR Gift Card! \nThink you have what it takes? \n 
URL:https://dilworthtr.com/event/blind-tasting-tuesdays-2-2/2026-11-24/
LOCATION:DTR Dilworth\, 300 E Tremont Ave\, Charlotte\, NC\, 28203\, United States
CATEGORIES:Dilworth,Plaza Midwood,SouthPark
ATTACH;FMTTYPE=image/jpeg:https://dilworthtr.com/wp-content/uploads/2025/03/Feb.-10-singles-night-mixer-2.jpg
END:VEVENT
BEGIN:VEVENT
DTSTART;VALUE=DATE:20261125
DTEND;VALUE=DATE:20261126
DTSTAMP:20260425T111132
CREATED:20260407T150905Z
LAST-MODIFIED:20260414T195500Z
UID:10015257-1795564800-1795651199@dilworthtr.com
SUMMARY:Wednesday Shaken & Stirred
DESCRIPTION:Join us every Wednesday at DTR Dilworth for a midweek classic. Enjoy $12 House Martinis and House Manhattans\, expertly crafted and perfectly balanced. No matter how your night looks\, consider this your standing midweek ritual.
URL:https://dilworthtr.com/event/wednesday-shaken-stirred/2026-11-25/
LOCATION:DTR Dilworth\, 300 E Tremont Ave\, Charlotte\, NC\, 28203\, United States
CATEGORIES:Dilworth
ATTACH;FMTTYPE=image/png:https://dilworthtr.com/wp-content/uploads/2026/04/Resy-Images-for-DTR-30.png
END:VEVENT
BEGIN:VEVENT
DTSTART;VALUE=DATE:20261126
DTEND;VALUE=DATE:20261127
DTSTAMP:20260425T111132
CREATED:20250915T201647Z
LAST-MODIFIED:20251113T140547Z
UID:10009278-1795651200-1795737599@dilworthtr.com
SUMMARY:Uncorked Thursdays
DESCRIPTION:Thursdays just got better! \n🍷 Half Off Select Bottles of Wine – The perfect excuse to sip & savor! \nBecause life’s too short for anything less than great wine at a great price!
URL:https://dilworthtr.com/event/uncorked-thursdays-2/2026-11-26/
LOCATION:DTR Dilworth\, 300 E Tremont Ave\, Charlotte\, NC\, 28203\, United States
CATEGORIES:Dilworth,Plaza Midwood,SouthPark
ATTACH;FMTTYPE=image/jpeg:https://dilworthtr.com/wp-content/uploads/2025/03/Uncorked-Thursdays.jpg
END:VEVENT
BEGIN:VEVENT
DTSTART;VALUE=DATE:20261201
DTEND;VALUE=DATE:20261202
DTSTAMP:20260425T111132
CREATED:20250722T153545Z
LAST-MODIFIED:20250722T153547Z
UID:10010330-1796083200-1796169599@dilworthtr.com
SUMMARY:Blind Tasting Tuesdays
DESCRIPTION:Think you know your wine or whiskey? Put your taste buds to the test with Blind Tasting Tuesdays! \nBlind Wine Flight – $25\nThree mystery 2oz pours + small charcuterie \nBlind Whiskey Flight – $30\nThree mystery 1oz pours \nBonus: Guess all three correctly and WIN a $25 DTR Gift Card! \nThink you have what it takes? \n 
URL:https://dilworthtr.com/event/blind-tasting-tuesdays-2-2/2026-12-01/
LOCATION:DTR Dilworth\, 300 E Tremont Ave\, Charlotte\, NC\, 28203\, United States
CATEGORIES:Dilworth,Plaza Midwood,SouthPark
ATTACH;FMTTYPE=image/jpeg:https://dilworthtr.com/wp-content/uploads/2025/03/Feb.-10-singles-night-mixer-2.jpg
END:VEVENT
BEGIN:VEVENT
DTSTART;VALUE=DATE:20261202
DTEND;VALUE=DATE:20261203
DTSTAMP:20260425T111132
CREATED:20260407T150905Z
LAST-MODIFIED:20260414T195500Z
UID:10015258-1796169600-1796255999@dilworthtr.com
SUMMARY:Wednesday Shaken & Stirred
DESCRIPTION:Join us every Wednesday at DTR Dilworth for a midweek classic. Enjoy $12 House Martinis and House Manhattans\, expertly crafted and perfectly balanced. No matter how your night looks\, consider this your standing midweek ritual.
URL:https://dilworthtr.com/event/wednesday-shaken-stirred/2026-12-02/
LOCATION:DTR Dilworth\, 300 E Tremont Ave\, Charlotte\, NC\, 28203\, United States
CATEGORIES:Dilworth
ATTACH;FMTTYPE=image/png:https://dilworthtr.com/wp-content/uploads/2026/04/Resy-Images-for-DTR-30.png
END:VEVENT
BEGIN:VEVENT
DTSTART;VALUE=DATE:20261203
DTEND;VALUE=DATE:20261204
DTSTAMP:20260425T111132
CREATED:20250915T201647Z
LAST-MODIFIED:20251113T140547Z
UID:10009279-1796256000-1796342399@dilworthtr.com
SUMMARY:Uncorked Thursdays
DESCRIPTION:Thursdays just got better! \n🍷 Half Off Select Bottles of Wine – The perfect excuse to sip & savor! \nBecause life’s too short for anything less than great wine at a great price!
URL:https://dilworthtr.com/event/uncorked-thursdays-2/2026-12-03/
LOCATION:DTR Dilworth\, 300 E Tremont Ave\, Charlotte\, NC\, 28203\, United States
CATEGORIES:Dilworth,Plaza Midwood,SouthPark
ATTACH;FMTTYPE=image/jpeg:https://dilworthtr.com/wp-content/uploads/2025/03/Uncorked-Thursdays.jpg
END:VEVENT
BEGIN:VEVENT
DTSTART;VALUE=DATE:20261208
DTEND;VALUE=DATE:20261209
DTSTAMP:20260425T111132
CREATED:20250722T153545Z
LAST-MODIFIED:20250722T153547Z
UID:10010331-1796688000-1796774399@dilworthtr.com
SUMMARY:Blind Tasting Tuesdays
DESCRIPTION:Think you know your wine or whiskey? Put your taste buds to the test with Blind Tasting Tuesdays! \nBlind Wine Flight – $25\nThree mystery 2oz pours + small charcuterie \nBlind Whiskey Flight – $30\nThree mystery 1oz pours \nBonus: Guess all three correctly and WIN a $25 DTR Gift Card! \nThink you have what it takes? \n 
URL:https://dilworthtr.com/event/blind-tasting-tuesdays-2-2/2026-12-08/
LOCATION:DTR Dilworth\, 300 E Tremont Ave\, Charlotte\, NC\, 28203\, United States
CATEGORIES:Dilworth,Plaza Midwood,SouthPark
ATTACH;FMTTYPE=image/jpeg:https://dilworthtr.com/wp-content/uploads/2025/03/Feb.-10-singles-night-mixer-2.jpg
END:VEVENT
BEGIN:VEVENT
DTSTART;VALUE=DATE:20261209
DTEND;VALUE=DATE:20261210
DTSTAMP:20260425T111132
CREATED:20260407T150905Z
LAST-MODIFIED:20260414T195500Z
UID:10015259-1796774400-1796860799@dilworthtr.com
SUMMARY:Wednesday Shaken & Stirred
DESCRIPTION:Join us every Wednesday at DTR Dilworth for a midweek classic. Enjoy $12 House Martinis and House Manhattans\, expertly crafted and perfectly balanced. No matter how your night looks\, consider this your standing midweek ritual.
URL:https://dilworthtr.com/event/wednesday-shaken-stirred/2026-12-09/
LOCATION:DTR Dilworth\, 300 E Tremont Ave\, Charlotte\, NC\, 28203\, United States
CATEGORIES:Dilworth
ATTACH;FMTTYPE=image/png:https://dilworthtr.com/wp-content/uploads/2026/04/Resy-Images-for-DTR-30.png
END:VEVENT
BEGIN:VEVENT
DTSTART;VALUE=DATE:20261210
DTEND;VALUE=DATE:20261211
DTSTAMP:20260425T111132
CREATED:20250915T201647Z
LAST-MODIFIED:20251113T140547Z
UID:10009280-1796860800-1796947199@dilworthtr.com
SUMMARY:Uncorked Thursdays
DESCRIPTION:Thursdays just got better! \n🍷 Half Off Select Bottles of Wine – The perfect excuse to sip & savor! \nBecause life’s too short for anything less than great wine at a great price!
URL:https://dilworthtr.com/event/uncorked-thursdays-2/2026-12-10/
LOCATION:DTR Dilworth\, 300 E Tremont Ave\, Charlotte\, NC\, 28203\, United States
CATEGORIES:Dilworth,Plaza Midwood,SouthPark
ATTACH;FMTTYPE=image/jpeg:https://dilworthtr.com/wp-content/uploads/2025/03/Uncorked-Thursdays.jpg
END:VEVENT
BEGIN:VEVENT
DTSTART;VALUE=DATE:20261215
DTEND;VALUE=DATE:20261216
DTSTAMP:20260425T111132
CREATED:20250722T153545Z
LAST-MODIFIED:20250722T153547Z
UID:10010332-1797292800-1797379199@dilworthtr.com
SUMMARY:Blind Tasting Tuesdays
DESCRIPTION:Think you know your wine or whiskey? Put your taste buds to the test with Blind Tasting Tuesdays! \nBlind Wine Flight – $25\nThree mystery 2oz pours + small charcuterie \nBlind Whiskey Flight – $30\nThree mystery 1oz pours \nBonus: Guess all three correctly and WIN a $25 DTR Gift Card! \nThink you have what it takes? \n 
URL:https://dilworthtr.com/event/blind-tasting-tuesdays-2-2/2026-12-15/
LOCATION:DTR Dilworth\, 300 E Tremont Ave\, Charlotte\, NC\, 28203\, United States
CATEGORIES:Dilworth,Plaza Midwood,SouthPark
ATTACH;FMTTYPE=image/jpeg:https://dilworthtr.com/wp-content/uploads/2025/03/Feb.-10-singles-night-mixer-2.jpg
END:VEVENT
BEGIN:VEVENT
DTSTART;VALUE=DATE:20261216
DTEND;VALUE=DATE:20261217
DTSTAMP:20260425T111132
CREATED:20260407T150905Z
LAST-MODIFIED:20260414T195500Z
UID:10015260-1797379200-1797465599@dilworthtr.com
SUMMARY:Wednesday Shaken & Stirred
DESCRIPTION:Join us every Wednesday at DTR Dilworth for a midweek classic. Enjoy $12 House Martinis and House Manhattans\, expertly crafted and perfectly balanced. No matter how your night looks\, consider this your standing midweek ritual.
URL:https://dilworthtr.com/event/wednesday-shaken-stirred/2026-12-16/
LOCATION:DTR Dilworth\, 300 E Tremont Ave\, Charlotte\, NC\, 28203\, United States
CATEGORIES:Dilworth
ATTACH;FMTTYPE=image/png:https://dilworthtr.com/wp-content/uploads/2026/04/Resy-Images-for-DTR-30.png
END:VEVENT
BEGIN:VEVENT
DTSTART;VALUE=DATE:20261217
DTEND;VALUE=DATE:20261218
DTSTAMP:20260425T111132
CREATED:20250915T201647Z
LAST-MODIFIED:20251113T140547Z
UID:10009281-1797465600-1797551999@dilworthtr.com
SUMMARY:Uncorked Thursdays
DESCRIPTION:Thursdays just got better! \n🍷 Half Off Select Bottles of Wine – The perfect excuse to sip & savor! \nBecause life’s too short for anything less than great wine at a great price!
URL:https://dilworthtr.com/event/uncorked-thursdays-2/2026-12-17/
LOCATION:DTR Dilworth\, 300 E Tremont Ave\, Charlotte\, NC\, 28203\, United States
CATEGORIES:Dilworth,Plaza Midwood,SouthPark
ATTACH;FMTTYPE=image/jpeg:https://dilworthtr.com/wp-content/uploads/2025/03/Uncorked-Thursdays.jpg
END:VEVENT
BEGIN:VEVENT
DTSTART;VALUE=DATE:20261222
DTEND;VALUE=DATE:20261223
DTSTAMP:20260425T111132
CREATED:20250722T153545Z
LAST-MODIFIED:20250722T153547Z
UID:10010333-1797897600-1797983999@dilworthtr.com
SUMMARY:Blind Tasting Tuesdays
DESCRIPTION:Think you know your wine or whiskey? Put your taste buds to the test with Blind Tasting Tuesdays! \nBlind Wine Flight – $25\nThree mystery 2oz pours + small charcuterie \nBlind Whiskey Flight – $30\nThree mystery 1oz pours \nBonus: Guess all three correctly and WIN a $25 DTR Gift Card! \nThink you have what it takes? \n 
URL:https://dilworthtr.com/event/blind-tasting-tuesdays-2-2/2026-12-22/
LOCATION:DTR Dilworth\, 300 E Tremont Ave\, Charlotte\, NC\, 28203\, United States
CATEGORIES:Dilworth,Plaza Midwood,SouthPark
ATTACH;FMTTYPE=image/jpeg:https://dilworthtr.com/wp-content/uploads/2025/03/Feb.-10-singles-night-mixer-2.jpg
END:VEVENT
BEGIN:VEVENT
DTSTART;VALUE=DATE:20261223
DTEND;VALUE=DATE:20261224
DTSTAMP:20260425T111132
CREATED:20260407T150905Z
LAST-MODIFIED:20260414T195500Z
UID:10015261-1797984000-1798070399@dilworthtr.com
SUMMARY:Wednesday Shaken & Stirred
DESCRIPTION:Join us every Wednesday at DTR Dilworth for a midweek classic. Enjoy $12 House Martinis and House Manhattans\, expertly crafted and perfectly balanced. No matter how your night looks\, consider this your standing midweek ritual.
URL:https://dilworthtr.com/event/wednesday-shaken-stirred/2026-12-23/
LOCATION:DTR Dilworth\, 300 E Tremont Ave\, Charlotte\, NC\, 28203\, United States
CATEGORIES:Dilworth
ATTACH;FMTTYPE=image/png:https://dilworthtr.com/wp-content/uploads/2026/04/Resy-Images-for-DTR-30.png
END:VEVENT
BEGIN:VEVENT
DTSTART;VALUE=DATE:20261224
DTEND;VALUE=DATE:20261225
DTSTAMP:20260425T111132
CREATED:20250915T201647Z
LAST-MODIFIED:20251113T140547Z
UID:10009282-1798070400-1798156799@dilworthtr.com
SUMMARY:Uncorked Thursdays
DESCRIPTION:Thursdays just got better! \n🍷 Half Off Select Bottles of Wine – The perfect excuse to sip & savor! \nBecause life’s too short for anything less than great wine at a great price!
URL:https://dilworthtr.com/event/uncorked-thursdays-2/2026-12-24/
LOCATION:DTR Dilworth\, 300 E Tremont Ave\, Charlotte\, NC\, 28203\, United States
CATEGORIES:Dilworth,Plaza Midwood,SouthPark
ATTACH;FMTTYPE=image/jpeg:https://dilworthtr.com/wp-content/uploads/2025/03/Uncorked-Thursdays.jpg
END:VEVENT
BEGIN:VEVENT
DTSTART;VALUE=DATE:20261229
DTEND;VALUE=DATE:20261230
DTSTAMP:20260425T111133
CREATED:20250722T153545Z
LAST-MODIFIED:20250722T153547Z
UID:10010334-1798502400-1798588799@dilworthtr.com
SUMMARY:Blind Tasting Tuesdays
DESCRIPTION:Think you know your wine or whiskey? Put your taste buds to the test with Blind Tasting Tuesdays! \nBlind Wine Flight – $25\nThree mystery 2oz pours + small charcuterie \nBlind Whiskey Flight – $30\nThree mystery 1oz pours \nBonus: Guess all three correctly and WIN a $25 DTR Gift Card! \nThink you have what it takes? \n 
URL:https://dilworthtr.com/event/blind-tasting-tuesdays-2-2/2026-12-29/
LOCATION:DTR Dilworth\, 300 E Tremont Ave\, Charlotte\, NC\, 28203\, United States
CATEGORIES:Dilworth,Plaza Midwood,SouthPark
ATTACH;FMTTYPE=image/jpeg:https://dilworthtr.com/wp-content/uploads/2025/03/Feb.-10-singles-night-mixer-2.jpg
END:VEVENT
BEGIN:VEVENT
DTSTART;VALUE=DATE:20261230
DTEND;VALUE=DATE:20261231
DTSTAMP:20260425T111133
CREATED:20260407T150905Z
LAST-MODIFIED:20260414T195500Z
UID:10015262-1798588800-1798675199@dilworthtr.com
SUMMARY:Wednesday Shaken & Stirred
DESCRIPTION:Join us every Wednesday at DTR Dilworth for a midweek classic. Enjoy $12 House Martinis and House Manhattans\, expertly crafted and perfectly balanced. No matter how your night looks\, consider this your standing midweek ritual.
URL:https://dilworthtr.com/event/wednesday-shaken-stirred/2026-12-30/
LOCATION:DTR Dilworth\, 300 E Tremont Ave\, Charlotte\, NC\, 28203\, United States
CATEGORIES:Dilworth
ATTACH;FMTTYPE=image/png:https://dilworthtr.com/wp-content/uploads/2026/04/Resy-Images-for-DTR-30.png
END:VEVENT
BEGIN:VEVENT
DTSTART;VALUE=DATE:20261231
DTEND;VALUE=DATE:20270101
DTSTAMP:20260425T111133
CREATED:20250915T201647Z
LAST-MODIFIED:20251113T140547Z
UID:10009283-1798675200-1798761599@dilworthtr.com
SUMMARY:Uncorked Thursdays
DESCRIPTION:Thursdays just got better! \n🍷 Half Off Select Bottles of Wine – The perfect excuse to sip & savor! \nBecause life’s too short for anything less than great wine at a great price!
URL:https://dilworthtr.com/event/uncorked-thursdays-2/2026-12-31/
LOCATION:DTR Dilworth\, 300 E Tremont Ave\, Charlotte\, NC\, 28203\, United States
CATEGORIES:Dilworth,Plaza Midwood,SouthPark
ATTACH;FMTTYPE=image/jpeg:https://dilworthtr.com/wp-content/uploads/2025/03/Uncorked-Thursdays.jpg
END:VEVENT
BEGIN:VEVENT
DTSTART;VALUE=DATE:20270105
DTEND;VALUE=DATE:20270106
DTSTAMP:20260425T111133
CREATED:20250722T153545Z
LAST-MODIFIED:20250722T153547Z
UID:10010335-1799107200-1799193599@dilworthtr.com
SUMMARY:Blind Tasting Tuesdays
DESCRIPTION:Think you know your wine or whiskey? Put your taste buds to the test with Blind Tasting Tuesdays! \nBlind Wine Flight – $25\nThree mystery 2oz pours + small charcuterie \nBlind Whiskey Flight – $30\nThree mystery 1oz pours \nBonus: Guess all three correctly and WIN a $25 DTR Gift Card! \nThink you have what it takes? \n 
URL:https://dilworthtr.com/event/blind-tasting-tuesdays-2-2/2027-01-05/
LOCATION:DTR Dilworth\, 300 E Tremont Ave\, Charlotte\, NC\, 28203\, United States
CATEGORIES:Dilworth,Plaza Midwood,SouthPark
ATTACH;FMTTYPE=image/jpeg:https://dilworthtr.com/wp-content/uploads/2025/03/Feb.-10-singles-night-mixer-2.jpg
END:VEVENT
BEGIN:VEVENT
DTSTART;VALUE=DATE:20270106
DTEND;VALUE=DATE:20270107
DTSTAMP:20260425T111133
CREATED:20260407T150905Z
LAST-MODIFIED:20260414T195500Z
UID:10015263-1799193600-1799279999@dilworthtr.com
SUMMARY:Wednesday Shaken & Stirred
DESCRIPTION:Join us every Wednesday at DTR Dilworth for a midweek classic. Enjoy $12 House Martinis and House Manhattans\, expertly crafted and perfectly balanced. No matter how your night looks\, consider this your standing midweek ritual.
URL:https://dilworthtr.com/event/wednesday-shaken-stirred/2027-01-06/
LOCATION:DTR Dilworth\, 300 E Tremont Ave\, Charlotte\, NC\, 28203\, United States
CATEGORIES:Dilworth
ATTACH;FMTTYPE=image/png:https://dilworthtr.com/wp-content/uploads/2026/04/Resy-Images-for-DTR-30.png
END:VEVENT
BEGIN:VEVENT
DTSTART;VALUE=DATE:20270107
DTEND;VALUE=DATE:20270108
DTSTAMP:20260425T111133
CREATED:20250915T201647Z
LAST-MODIFIED:20251113T140547Z
UID:10009284-1799280000-1799366399@dilworthtr.com
SUMMARY:Uncorked Thursdays
DESCRIPTION:Thursdays just got better! \n🍷 Half Off Select Bottles of Wine – The perfect excuse to sip & savor! \nBecause life’s too short for anything less than great wine at a great price!
URL:https://dilworthtr.com/event/uncorked-thursdays-2/2027-01-07/
LOCATION:DTR Dilworth\, 300 E Tremont Ave\, Charlotte\, NC\, 28203\, United States
CATEGORIES:Dilworth,Plaza Midwood,SouthPark
ATTACH;FMTTYPE=image/jpeg:https://dilworthtr.com/wp-content/uploads/2025/03/Uncorked-Thursdays.jpg
END:VEVENT
BEGIN:VEVENT
DTSTART;VALUE=DATE:20270112
DTEND;VALUE=DATE:20270113
DTSTAMP:20260425T111133
CREATED:20250722T153545Z
LAST-MODIFIED:20250722T153547Z
UID:10010336-1799712000-1799798399@dilworthtr.com
SUMMARY:Blind Tasting Tuesdays
DESCRIPTION:Think you know your wine or whiskey? Put your taste buds to the test with Blind Tasting Tuesdays! \nBlind Wine Flight – $25\nThree mystery 2oz pours + small charcuterie \nBlind Whiskey Flight – $30\nThree mystery 1oz pours \nBonus: Guess all three correctly and WIN a $25 DTR Gift Card! \nThink you have what it takes? \n 
URL:https://dilworthtr.com/event/blind-tasting-tuesdays-2-2/2027-01-12/
LOCATION:DTR Dilworth\, 300 E Tremont Ave\, Charlotte\, NC\, 28203\, United States
CATEGORIES:Dilworth,Plaza Midwood,SouthPark
ATTACH;FMTTYPE=image/jpeg:https://dilworthtr.com/wp-content/uploads/2025/03/Feb.-10-singles-night-mixer-2.jpg
END:VEVENT
BEGIN:VEVENT
DTSTART;VALUE=DATE:20270113
DTEND;VALUE=DATE:20270114
DTSTAMP:20260425T111133
CREATED:20260407T150905Z
LAST-MODIFIED:20260414T195500Z
UID:10015264-1799798400-1799884799@dilworthtr.com
SUMMARY:Wednesday Shaken & Stirred
DESCRIPTION:Join us every Wednesday at DTR Dilworth for a midweek classic. Enjoy $12 House Martinis and House Manhattans\, expertly crafted and perfectly balanced. No matter how your night looks\, consider this your standing midweek ritual.
URL:https://dilworthtr.com/event/wednesday-shaken-stirred/2027-01-13/
LOCATION:DTR Dilworth\, 300 E Tremont Ave\, Charlotte\, NC\, 28203\, United States
CATEGORIES:Dilworth
ATTACH;FMTTYPE=image/png:https://dilworthtr.com/wp-content/uploads/2026/04/Resy-Images-for-DTR-30.png
END:VEVENT
BEGIN:VEVENT
DTSTART;VALUE=DATE:20270114
DTEND;VALUE=DATE:20270115
DTSTAMP:20260425T111133
CREATED:20250915T201647Z
LAST-MODIFIED:20251113T140547Z
UID:10009285-1799884800-1799971199@dilworthtr.com
SUMMARY:Uncorked Thursdays
DESCRIPTION:Thursdays just got better! \n🍷 Half Off Select Bottles of Wine – The perfect excuse to sip & savor! \nBecause life’s too short for anything less than great wine at a great price!
URL:https://dilworthtr.com/event/uncorked-thursdays-2/2027-01-14/
LOCATION:DTR Dilworth\, 300 E Tremont Ave\, Charlotte\, NC\, 28203\, United States
CATEGORIES:Dilworth,Plaza Midwood,SouthPark
ATTACH;FMTTYPE=image/jpeg:https://dilworthtr.com/wp-content/uploads/2025/03/Uncorked-Thursdays.jpg
END:VEVENT
BEGIN:VEVENT
DTSTART;VALUE=DATE:20270119
DTEND;VALUE=DATE:20270120
DTSTAMP:20260425T111133
CREATED:20250722T153545Z
LAST-MODIFIED:20250722T153547Z
UID:10010337-1800316800-1800403199@dilworthtr.com
SUMMARY:Blind Tasting Tuesdays
DESCRIPTION:Think you know your wine or whiskey? Put your taste buds to the test with Blind Tasting Tuesdays! \nBlind Wine Flight – $25\nThree mystery 2oz pours + small charcuterie \nBlind Whiskey Flight – $30\nThree mystery 1oz pours \nBonus: Guess all three correctly and WIN a $25 DTR Gift Card! \nThink you have what it takes? \n 
URL:https://dilworthtr.com/event/blind-tasting-tuesdays-2-2/2027-01-19/
LOCATION:DTR Dilworth\, 300 E Tremont Ave\, Charlotte\, NC\, 28203\, United States
CATEGORIES:Dilworth,Plaza Midwood,SouthPark
ATTACH;FMTTYPE=image/jpeg:https://dilworthtr.com/wp-content/uploads/2025/03/Feb.-10-singles-night-mixer-2.jpg
END:VEVENT
BEGIN:VEVENT
DTSTART;VALUE=DATE:20270120
DTEND;VALUE=DATE:20270121
DTSTAMP:20260425T111133
CREATED:20260407T150905Z
LAST-MODIFIED:20260414T195500Z
UID:10015265-1800403200-1800489599@dilworthtr.com
SUMMARY:Wednesday Shaken & Stirred
DESCRIPTION:Join us every Wednesday at DTR Dilworth for a midweek classic. Enjoy $12 House Martinis and House Manhattans\, expertly crafted and perfectly balanced. No matter how your night looks\, consider this your standing midweek ritual.
URL:https://dilworthtr.com/event/wednesday-shaken-stirred/2027-01-20/
LOCATION:DTR Dilworth\, 300 E Tremont Ave\, Charlotte\, NC\, 28203\, United States
CATEGORIES:Dilworth
ATTACH;FMTTYPE=image/png:https://dilworthtr.com/wp-content/uploads/2026/04/Resy-Images-for-DTR-30.png
END:VEVENT
BEGIN:VEVENT
DTSTART;VALUE=DATE:20270121
DTEND;VALUE=DATE:20270122
DTSTAMP:20260425T111133
CREATED:20250915T201647Z
LAST-MODIFIED:20251113T140547Z
UID:10009286-1800489600-1800575999@dilworthtr.com
SUMMARY:Uncorked Thursdays
DESCRIPTION:Thursdays just got better! \n🍷 Half Off Select Bottles of Wine – The perfect excuse to sip & savor! \nBecause life’s too short for anything less than great wine at a great price!
URL:https://dilworthtr.com/event/uncorked-thursdays-2/2027-01-21/
LOCATION:DTR Dilworth\, 300 E Tremont Ave\, Charlotte\, NC\, 28203\, United States
CATEGORIES:Dilworth,Plaza Midwood,SouthPark
ATTACH;FMTTYPE=image/jpeg:https://dilworthtr.com/wp-content/uploads/2025/03/Uncorked-Thursdays.jpg
END:VEVENT
END:VCALENDAR